BEGIN:VCALENDAR
VERSION:2.0
PRODID:-//Die Damischen Ritter - ECPv6.0.6.2//NONSGML v1.0//EN
CALSCALE:GREGORIAN
METHOD:PUBLISH
X-WR-CALNAME:Die Damischen Ritter
X-ORIGINAL-URL:https://www.damischeritter.de
X-WR-CALDESC:Veranstaltungen für Die Damischen Ritter
REFRESH-INTERVAL;VALUE=DURATION:PT1H
X-Robots-Tag:noindex
X-PUBLISHED-TTL:PT1H
BEGIN:VTIMEZONE
TZID:Europe/Paris
BEGIN:DAYLIGHT
TZOFFSETFROM:+0100
TZOFFSETTO:+0200
TZNAME:CEST
DTSTART:20240331T010000
END:DAYLIGHT
BEGIN:STANDARD
TZOFFSETFROM:+0200
TZOFFSETTO:+0100
TZNAME:CET
DTSTART:20241027T010000
END:STANDARD
END:VTIMEZONE
BEGIN:VEVENT
DTSTART;TZID=Europe/Paris:20240211T113000
DTEND;TZID=Europe/Paris:20240211T170000
DTSTAMP:20260425T032550
CREATED:20240120T051853Z
LAST-MODIFIED:20240205T092446Z
UID:1632-1707651000-1707670800@www.damischeritter.de
SUMMARY:Kinderball der Damischen Ritter 2024 im Löwenbräukeller
DESCRIPTION:Der Kinderball ist ein riesen Spaß für kleine und große Ritter\, Prinzessinnen\, Piraten\, Feen und alle anderen Faschingsbegeisterten. \nHier ein kleiner Rückblick zu unserem letzten Kinderball 2017 und was Sie dieses Jahr erwartet. \nWer lustige Stunden mit den Kindern verbringen möchte geht zu Münchens schönstem Kinderball am Hofe Herzog Kasimirs am 11. Februar 2024. Die Faschingsveranstaltung ist ein riesen Spaß für kleine und große Ritter\, Prinzessinen\, Piraten\, Feen und alle anderen Faschingsbegeisterten. \nLos geht es ab 13:00 Uhr im Löwenbräukeller am Stiglmaierplatz\nEinlass ist ab 11:30 Uhr\nEintritt: 18 Euro \nTickets können hier auf München Ticket erworben werden! \nFreier Eintritt für alle Kinder bis einschließlich 3 Jahre!!! \nUnterhalten mit Tanz\, Spielen und Musik werden unsere einzigartigen Gäste von den Moderatoren der Tanzschule Neubeck\, unserem Herzog Kasimir und seinen Rittern. Außerdem gibt es eine Schminkfee und den Luftballonkünstler Rudolfo. \nGegen den Hunger ist wieder ein reichliches Buffet angerichtet. \nÜber zahlreiches Kommen freuen sich\nHerzog Kasimir und Die Damischen Ritter.
URL:https://www.damischeritter.de/veranstaltung/kinderball-der-damischen-ritter-2024-im-loewenbraeukeller/
LOCATION:Löwenbräukeller München\, Nymphenburgerstrasse 2\, München\, 80335\, Deutschland
ATTACH;FMTTYPE=image/jpeg:https://www.damischeritter.de/wp-content/uploads/2018/02/DSC_1320-1.jpg
ORGANIZER;CN="Gesellige%20Vereinigung%20der%20Turmfalken%20e.V.":MAILTO:info@damischeritter.de
END:VEVENT
END:VCALENDAR